BEGIN:VCALENDAR
VERSION:2.0
PRODID:-//Keep Pickens Beautiful - ECPv6.15.20//NONSGML v1.0//EN
CALSCALE:GREGORIAN
METHOD:PUBLISH
X-ORIGINAL-URL:https://keeppickensbeautiful.org
X-WR-CALDESC:Events for Keep Pickens Beautiful
REFRESH-INTERVAL;VALUE=DURATION:PT1H
X-Robots-Tag:noindex
X-PUBLISHED-TTL:PT1H
BEGIN:VTIMEZONE
TZID:America/New_York
BEGIN:DAYLIGHT
TZOFFSETFROM:-0500
TZOFFSETTO:-0400
TZNAME:EDT
DTSTART:20220313T070000
END:DAYLIGHT
BEGIN:STANDARD
TZOFFSETFROM:-0400
TZOFFSETTO:-0500
TZNAME:EST
DTSTART:20221106T060000
END:STANDARD
BEGIN:DAYLIGHT
TZOFFSETFROM:-0500
TZOFFSETTO:-0400
TZNAME:EDT
DTSTART:20230312T070000
END:DAYLIGHT
BEGIN:STANDARD
TZOFFSETFROM:-0400
TZOFFSETTO:-0500
TZNAME:EST
DTSTART:20231105T060000
END:STANDARD
BEGIN:DAYLIGHT
TZOFFSETFROM:-0500
TZOFFSETTO:-0400
TZNAME:EDT
DTSTART:20240310T070000
END:DAYLIGHT
BEGIN:STANDARD
TZOFFSETFROM:-0400
TZOFFSETTO:-0500
TZNAME:EST
DTSTART:20241103T060000
END:STANDARD
END:VTIMEZONE
BEGIN:VEVENT
DTSTART;TZID=America/New_York:20231021T080000
DTEND;TZID=America/New_York:20231021T140000
DTSTAMP:20260425T114832
CREATED:20230919T185834Z
LAST-MODIFIED:20230920T161049Z
UID:4157-1697875200-1697896800@keeppickensbeautiful.org
SUMMARY:Serve Pickens - Edible Pickens
DESCRIPTION:On this day of service throughout Pickens County\, join us as we install the pavers we made at September 30th’s workshop.  We also have plant starts growing\, so we’ll add some Fall plants to the gardens.  We’ll be doing lots of things in our Edible Pickens and Memorial Gardens near the Chamber – come lend a hand! \n\n\n\nYou MUST register through the SERVE Pickens website to participate.  Register HERE
URL:https://keeppickensbeautiful.org/calendar/serve-pickens-edible-pickens/
LOCATION:Memorial & Edible Pickens Gardens in Lee Newton Park\, 500 Stegall Drive\, Jasper\, Georgia\, 30143
CATEGORIES:Community Events,Edible Pickens
ATTACH;FMTTYPE=image/jpeg:https://keeppickensbeautiful.org/wp-content/uploads/2023/09/serve_pickens_102222_01-scaled.jpg
END:VEVENT
END:VCALENDAR