BEGIN:VCALENDAR
VERSION:2.0
PRODID:-//Keep Pickens Beautiful - ECPv6.15.20//NONSGML v1.0//EN
CALSCALE:GREGORIAN
METHOD:PUBLISH
X-ORIGINAL-URL:https://keeppickensbeautiful.org
X-WR-CALDESC:Events for Keep Pickens Beautiful
REFRESH-INTERVAL;VALUE=DURATION:PT1H
X-Robots-Tag:noindex
X-PUBLISHED-TTL:PT1H
BEGIN:VTIMEZONE
TZID:America/New_York
BEGIN:DAYLIGHT
TZOFFSETFROM:-0500
TZOFFSETTO:-0400
TZNAME:EDT
DTSTART:20240310T070000
END:DAYLIGHT
BEGIN:STANDARD
TZOFFSETFROM:-0400
TZOFFSETTO:-0500
TZNAME:EST
DTSTART:20241103T060000
END:STANDARD
BEGIN:DAYLIGHT
TZOFFSETFROM:-0500
TZOFFSETTO:-0400
TZNAME:EDT
DTSTART:20250309T070000
END:DAYLIGHT
BEGIN:STANDARD
TZOFFSETFROM:-0400
TZOFFSETTO:-0500
TZNAME:EST
DTSTART:20251102T060000
END:STANDARD
BEGIN:DAYLIGHT
TZOFFSETFROM:-0500
TZOFFSETTO:-0400
TZNAME:EDT
DTSTART:20260308T070000
END:DAYLIGHT
BEGIN:STANDARD
TZOFFSETFROM:-0400
TZOFFSETTO:-0500
TZNAME:EST
DTSTART:20261101T060000
END:STANDARD
END:VTIMEZONE
BEGIN:VEVENT
DTSTART;TZID=America/New_York:20250426T000000
DTEND;TZID=America/New_York:20250426T160000
DTSTAMP:20260424T131642
CREATED:20250401T172607Z
LAST-MODIFIED:20250401T174648Z
UID:7353-1745625600-1745683200@keeppickensbeautiful.org
SUMMARY:2025 Earth Day on Main
DESCRIPTION:Join us on  for the 4th Annual Earth Day on Main\n\n\n\nSaturday\, April 2612pm-4pmin Perrow Park! \n\n\n\n\n\n\n\n\n\n\n\nThe focus of this celebration is to thank our friends and neighbors for all they do to help improve our community through waste reduction\, beautification\, roadside trash collection\, and more!  In addition to expressing our appreciation\, at Earth Day on Main\, you’ll find information about local groups and resources\, fun activities for the kids\, and other exciting things! \n\n\n\n\n\n\n\nCheck the event webpage for a list of this years vendors and educators. We will be adding them as we book them\, so check back often! \n\n\n\n \n\n\n\nOpen to the public\, No RSVP required. \n\n\n\nEvent is always FREE! \n\n\n\n \n\n\n\nIf you would like to participate as a vendor\, educator\, or craftsman\, please contact us via the form on the event webpage. \n\n\n\nPerrow Park is the little park on the South end of Main street in downtown Jasper
URL:https://keeppickensbeautiful.org/calendar/2025-earth-day-on-main/
LOCATION:Georgia
ATTACH;FMTTYPE=image/jpeg:https://keeppickensbeautiful.org/wp-content/uploads/2025/04/earth_day_on_main_2024-square.jpeg
END:VEVENT
END:VCALENDAR