BEGIN:VCALENDAR
VERSION:2.0
PRODID:-//Keep Pickens Beautiful - ECPv6.15.20//NONSGML v1.0//EN
CALSCALE:GREGORIAN
METHOD:PUBLISH
X-ORIGINAL-URL:https://keeppickensbeautiful.org
X-WR-CALDESC:Events for Keep Pickens Beautiful
REFRESH-INTERVAL;VALUE=DURATION:PT1H
X-Robots-Tag:noindex
X-PUBLISHED-TTL:PT1H
BEGIN:VTIMEZONE
TZID:America/New_York
BEGIN:DAYLIGHT
TZOFFSETFROM:-0500
TZOFFSETTO:-0400
TZNAME:EDT
DTSTART:20250309T070000
END:DAYLIGHT
BEGIN:STANDARD
TZOFFSETFROM:-0400
TZOFFSETTO:-0500
TZNAME:EST
DTSTART:20251102T060000
END:STANDARD
BEGIN:DAYLIGHT
TZOFFSETFROM:-0500
TZOFFSETTO:-0400
TZNAME:EDT
DTSTART:20260308T070000
END:DAYLIGHT
BEGIN:STANDARD
TZOFFSETFROM:-0400
TZOFFSETTO:-0500
TZNAME:EST
DTSTART:20261101T060000
END:STANDARD
BEGIN:DAYLIGHT
TZOFFSETFROM:-0500
TZOFFSETTO:-0400
TZNAME:EDT
DTSTART:20270314T070000
END:DAYLIGHT
BEGIN:STANDARD
TZOFFSETFROM:-0400
TZOFFSETTO:-0500
TZNAME:EST
DTSTART:20271107T060000
END:STANDARD
END:VTIMEZONE
BEGIN:VEVENT
DTSTART;TZID=America/New_York:20260307T080000
DTEND;TZID=America/New_York:20260418T200000
DTSTAMP:20260423T200616
CREATED:20260306T230539Z
LAST-MODIFIED:20260307T005417Z
UID:8839-1772870400-1776542400@keeppickensbeautiful.org
SUMMARY:Litter-O-Lympics 2026
DESCRIPTION:This year\, Litter-O-Lympics will happen at your own pace during the Greatest American Cleanup & America’s 250th Anniversary Celebration. It kicks off at our first group litter cleanup event on March 7th and runs all the way until April 18th\, when we will celebrate Earth Day on Main! \n\n\n\nLearn more on the official Litter-O-Lympics webpage
URL:https://keeppickensbeautiful.org/calendar/litter-o-lympics-2026/
LOCATION:Georgia
ATTACH;FMTTYPE=image/jpeg:https://keeppickensbeautiful.org/wp-content/uploads/2026/03/LOL-2026-square-1-scaled.jpg
END:VEVENT
BEGIN:VEVENT
DTSTART;TZID=America/New_York:20260411T110000
DTEND;TZID=America/New_York:20260411T140000
DTSTAMP:20260423T200616
CREATED:20260330T175822Z
LAST-MODIFIED:20260330T183715Z
UID:9037-1775905200-1775916000@keeppickensbeautiful.org
SUMMARY:Edible Pickens Garden Planting - Lee Newton Memorial Garden
DESCRIPTION:Volunteer in our Edible Pickens Gardens every weekend in April as part of the Greatest American Cleanup For America’s 250th! \n\n\n\nOur second Edible Pickens workshop in April will happen at the Lee Newton Park Memorial Garden near the Chamber of Commerce Building. We will do some garden maintenance\, like weeding\, pruning and fertilizing existing plants\, while also adding new seeds and some new plant babies in each garden. Adding a fresh layer of mulch at the end will not only make these gardens look cleaned up\, but will also help hold in moisture and nutrients to help the garden thrive! \n\n\n\nNo experience necessary.All ages\, bring the family!Tools and water will be provided.Just show up and have some fun with us!Parking is easy! Park anywhere in the parking lot and walk over past the Chamber of Commerce building.
URL:https://keeppickensbeautiful.org/calendar/edible-pickens-garden-planting-lee-newton-memorial-garden/
LOCATION:Lee Newton Memorial Park\, Jasper\, Ga\, 599 Stegall Dr\, Jasper\, Georgia\, 30143
ATTACH;FMTTYPE=image/jpeg:https://keeppickensbeautiful.org/wp-content/uploads/2026/01/Edible-Pickens-April-Events-square.jpg
END:VEVENT
END:VCALENDAR