BEGIN:VCALENDAR
VERSION:2.0
PRODID:-//Keep Pickens Beautiful - ECPv6.15.20//NONSGML v1.0//EN
CALSCALE:GREGORIAN
METHOD:PUBLISH
X-WR-CALNAME:Keep Pickens Beautiful
X-ORIGINAL-URL:https://keeppickensbeautiful.org
X-WR-CALDESC:Events for Keep Pickens Beautiful
REFRESH-INTERVAL;VALUE=DURATION:PT1H
X-Robots-Tag:noindex
X-PUBLISHED-TTL:PT1H
BEGIN:VTIMEZONE
TZID:America/New_York
BEGIN:DAYLIGHT
TZOFFSETFROM:-0500
TZOFFSETTO:-0400
TZNAME:EDT
DTSTART:20250309T070000
END:DAYLIGHT
BEGIN:STANDARD
TZOFFSETFROM:-0400
TZOFFSETTO:-0500
TZNAME:EST
DTSTART:20251102T060000
END:STANDARD
BEGIN:DAYLIGHT
TZOFFSETFROM:-0500
TZOFFSETTO:-0400
TZNAME:EDT
DTSTART:20260308T070000
END:DAYLIGHT
BEGIN:STANDARD
TZOFFSETFROM:-0400
TZOFFSETTO:-0500
TZNAME:EST
DTSTART:20261101T060000
END:STANDARD
BEGIN:DAYLIGHT
TZOFFSETFROM:-0500
TZOFFSETTO:-0400
TZNAME:EDT
DTSTART:20270314T070000
END:DAYLIGHT
BEGIN:STANDARD
TZOFFSETFROM:-0400
TZOFFSETTO:-0500
TZNAME:EST
DTSTART:20271107T060000
END:STANDARD
END:VTIMEZONE
BEGIN:VEVENT
DTSTART;TZID=America/New_York:20260425T100000
DTEND;TZID=America/New_York:20260425T160000
DTSTAMP:20260423T075605
CREATED:20260204T200201Z
LAST-MODIFIED:20260402T164843Z
UID:8769-1777111200-1777132800@keeppickensbeautiful.org
SUMMARY:Earth Day On Main
DESCRIPTION:Join us for the 4th annual Earth Day on Main celebration! This year\, we will be celebrating right in the parking lot at the KPB Office. Each year this event is a little different depending on our current focuses and programs. This year we will not be including vendors\, and will focus on eco-friendly activities and educational workshops for the whole family! \n\n\n\nWe are also curating a local plant swap\, just dig one up from your yard and swap it with one you might not have from someone else in the community! We will also be celebrating the efforts of all of the Litter-O-Lympics participants with medals and prizes for who collected the most litter in the competition. Help us celebrate their amazing efforts! (It’s not too late to participate if you want to join in the fun\, the competition ends April 18th.) \n\n\n\nIf you are interested in teaching the community something special or maybe have a fun eco-friendly craft you’d like to include\, please contact us!
URL:https://keeppickensbeautiful.org/calendar/earth-day-on-main-3/
LOCATION:Georgia
ATTACH;FMTTYPE=image/jpeg:https://keeppickensbeautiful.org/wp-content/uploads/2026/02/Earth-Day-2026.jpg
END:VEVENT
END:VCALENDAR