BEGIN:VCALENDAR
VERSION:2.0
PRODID:-//Keep Pickens Beautiful - ECPv6.15.20//NONSGML v1.0//EN
CALSCALE:GREGORIAN
METHOD:PUBLISH
X-WR-CALNAME:Keep Pickens Beautiful
X-ORIGINAL-URL:https://keeppickensbeautiful.org
X-WR-CALDESC:Events for Keep Pickens Beautiful
REFRESH-INTERVAL;VALUE=DURATION:PT1H
X-Robots-Tag:noindex
X-PUBLISHED-TTL:PT1H
BEGIN:VTIMEZONE
TZID:America/New_York
BEGIN:DAYLIGHT
TZOFFSETFROM:-0500
TZOFFSETTO:-0400
TZNAME:EDT
DTSTART:20200308T070000
END:DAYLIGHT
BEGIN:STANDARD
TZOFFSETFROM:-0400
TZOFFSETTO:-0500
TZNAME:EST
DTSTART:20201101T060000
END:STANDARD
BEGIN:DAYLIGHT
TZOFFSETFROM:-0500
TZOFFSETTO:-0400
TZNAME:EDT
DTSTART:20210314T070000
END:DAYLIGHT
BEGIN:STANDARD
TZOFFSETFROM:-0400
TZOFFSETTO:-0500
TZNAME:EST
DTSTART:20211107T060000
END:STANDARD
BEGIN:DAYLIGHT
TZOFFSETFROM:-0500
TZOFFSETTO:-0400
TZNAME:EDT
DTSTART:20220313T070000
END:DAYLIGHT
BEGIN:STANDARD
TZOFFSETFROM:-0400
TZOFFSETTO:-0500
TZNAME:EST
DTSTART:20221106T060000
END:STANDARD
BEGIN:DAYLIGHT
TZOFFSETFROM:-0500
TZOFFSETTO:-0400
TZNAME:EDT
DTSTART:20230312T070000
END:DAYLIGHT
BEGIN:STANDARD
TZOFFSETFROM:-0400
TZOFFSETTO:-0500
TZNAME:EST
DTSTART:20231105T060000
END:STANDARD
BEGIN:DAYLIGHT
TZOFFSETFROM:-0500
TZOFFSETTO:-0400
TZNAME:EDT
DTSTART:20240310T070000
END:DAYLIGHT
BEGIN:STANDARD
TZOFFSETFROM:-0400
TZOFFSETTO:-0500
TZNAME:EST
DTSTART:20241103T060000
END:STANDARD
END:VTIMEZONE
BEGIN:VEVENT
DTSTART;TZID=America/New_York:20230415T090000
DTEND;TZID=America/New_York:20230415T120000
DTSTAMP:20260425T104426
CREATED:20230315T180519Z
LAST-MODIFIED:20230412T170036Z
UID:3537-1681549200-1681560000@keeppickensbeautiful.org
SUMMARY:Edible Jasper Spring Planting 02
DESCRIPTION:Come play in the dirt with us for this second Great American Cleanup Edible Jasper workshop!\n\n\n\nWe are going to focus on the gardens behind the Kirby-Quinton Cabin and in the Pickens County Progress parking lot. We’re going to start behind the cabin\, so meet us there. \n\n\n\nThose gardens are happily growing\, and we’re going to add a lot more to them! We have been growing lots of cold-tolerant plants that will be ready to get into the ground. \n\n\n\nAfter our workshop\, stroll up Main Street\, grab a snack or a drink\, and head to the Master Gardners for their symposium on How to Grow a Sustainable Garden.  More details are HERE.
URL:https://keeppickensbeautiful.org/calendar/edible-jasper-spring-planting-02/
LOCATION:Kirby Quinton Historic Cabin\, 141 North Main Street\, Jasper\, GA\, 30143\, United States
CATEGORIES:Edible Jasper
ATTACH;FMTTYPE=image/jpeg:https://keeppickensbeautiful.org/wp-content/uploads/2023/03/quinton_april2023-scaled.jpg
END:VEVENT
BEGIN:VEVENT
DTSTART;TZID=America/New_York:20230408T100000
DTEND;TZID=America/New_York:20230408T140000
DTSTAMP:20260425T104426
CREATED:20230315T171235Z
LAST-MODIFIED:20230326T214657Z
UID:3534-1680948000-1680962400@keeppickensbeautiful.org
SUMMARY:Pick-Up Pickens - Jasper
DESCRIPTION:Roadside trash is a constant and growing challenge in Pickens County.  While our Adopt-A-Road volunteers and county employees do all they can\, we all see the mess as we walk or drive our streets. \n\n\n\nJoin us for this first roadside cleanup for the 2023 Great American Cleanup! \n\n\n\nWe will begin at our office and will head down Spring Street and A.W. Lawson Blvd to the sheriff’s office. \n\n\n\nCome get some exercise\, meet new friends\, and help our community!
URL:https://keeppickensbeautiful.org/calendar/pickup-pickens-jasper-2023-01/
LOCATION:Keep Pickens Beautiful Office\, 56 South Main Street\, Jasper\, Georgia\, 30143\, United States
CATEGORIES:Cleanup
ATTACH;FMTTYPE=image/jpeg:https://keeppickensbeautiful.org/wp-content/uploads/2023/03/Clean-Sweep-5.jpg
END:VEVENT
BEGIN:VEVENT
DTSTART;TZID=America/New_York:20230401T100000
DTEND;TZID=America/New_York:20230401T140000
DTSTAMP:20260425T104426
CREATED:20230314T033609Z
LAST-MODIFIED:20230328T142036Z
UID:3529-1680343200-1680357600@keeppickensbeautiful.org
SUMMARY:Edible Jasper Spring Planting
DESCRIPTION:Spring is here!  It’s time to get our hands dirty in the Edible Jasper gardens! \n\n\n\nWe have been growing lots of cold-tolerant plants to get started – pak choi\, chamomile\, dill\, swiss chard\, cabbage\, and more. \n\n\n\nFor this first Edible Jasper workshop of the season\, we’re going to start at our office.  We recently cleared out the shrubs from under the arbors\, so now they’re ready for some plants!  We have pak choi\, chamomile\, swiss chard\, dill\, hyssop\, blueberries\, and hardy kiwi to get started.  We will also relocate some of the plants from the road-side garden to under the arbors.   \n\n\n\nCome learn about sustainable plant selection\, how to split and relocate existing mature plants\, and we’ll explore the effects of this winter’s freeze on some of our plants (like our big mama rosemary) and how we plan to help them recover (if possible). \n\n\n\nThis is a drop-in event\, so if you can’t come for the entire time\, that’s fine! There’s plenty to do so come help when you can. \n\n\n\nSee you in the garden! \n\n\n\nApril is KPB’s Great American Cleanup month – We’ll have workshops and activities each weekend in April\, so come lend a hand\, improve our community\, meet new friends\, and have fun!
URL:https://keeppickensbeautiful.org/calendar/edible-jasper-spring-planting/
LOCATION:Keep Pickens Beautiful Office\, 56 South Main Street\, Jasper\, Georgia\, 30143\, United States
CATEGORIES:Edible Jasper
ATTACH;FMTTYPE=image/jpeg:https://keeppickensbeautiful.org/wp-content/uploads/2023/03/IMG_9793-scaled.jpg
END:VEVENT
BEGIN:VEVENT
DTSTART;TZID=America/New_York:20230325T100000
DTEND;TZID=America/New_York:20230325T120000
DTSTAMP:20260425T104426
CREATED:20230314T024604Z
LAST-MODIFIED:20230315T165140Z
UID:3521-1679738400-1679745600@keeppickensbeautiful.org
SUMMARY:Mushroom Logs
DESCRIPTION:Edible Jasper is adding Mushrooms to the Menu!\n\n\n\nJoin us as we learn how to inoculate logs to grow edible mushrooms! \n\n\n\nOur instructor for the day\, Gabrielle\, will teach us the technique\, the types of trees to use\, the best time to inoculate your logs\, and will answer all your mushroom questions. \n\n\n\nThis is an all-ages program\, but kids (younger than 15) must have a parent present.  We will be using hammers and hot wax\, so we want to keep everyone safe. \n\n\n\nSpace is limited\, so reserve your spot today!  If all available log-spots are filled\, you’re welcome to come listen and learn. \n\n\n\nLearn more about Gabrielle and the programs she offers at Earthbound Skills.
URL:https://keeppickensbeautiful.org/calendar/mushroom-logs/
LOCATION:Keep Pickens Beautiful Office\, 56 South Main Street\, Jasper\, Georgia\, 30143\, United States
CATEGORIES:Edible Jasper
ATTACH;FMTTYPE=image/jpeg:https://keeppickensbeautiful.org/wp-content/uploads/2023/03/IMG_3203-scaled.jpg
END:VEVENT
BEGIN:VEVENT
DTSTART;TZID=America/New_York:20221015T090000
DTEND;TZID=America/New_York:20221015T130000
DTSTAMP:20260425T104426
CREATED:20221010T062351Z
LAST-MODIFIED:20221010T062357Z
UID:2984-1665824400-1665838800@keeppickensbeautiful.org
SUMMARY:Retro TV Recycling Day
DESCRIPTION:We have received many calls asking where to recycle that old tube-style TV that’s been cluttering up your garage or basement. \n\n\n\nUnfortunately\, since they contain toxic metals\, they must be handled by a company with the appropriate certifications.  \n\n\n\nJoin KPB on Saturday\, October 15 from 9:00 – 1:00 at the Pickens County Recycling Center for a ONE DAY ONLY event! \n\n\n\nThis is an event hosted by KPB. This is the ONLY time that you can bring your old TVs to the recycling center. KPB is coordinating with a company from Atlanta who can properly and responsibly recycle them.
URL:https://keeppickensbeautiful.org/calendar/retro-tv-recycling-day/
LOCATION:Georgia
ATTACH;FMTTYPE=image/jpeg:https://keeppickensbeautiful.org/wp-content/uploads/2022/10/tv_recycling_sept2022-scaled.jpg
END:VEVENT
BEGIN:VEVENT
DTSTART;TZID=America/New_York:20220430T100000
DTEND;TZID=America/New_York:20220430T120000
DTSTAMP:20260425T104426
CREATED:20220315T010045Z
LAST-MODIFIED:20220319T061328Z
UID:2493-1651312800-1651320000@keeppickensbeautiful.org
SUMMARY:Let's Clean Up Pickens Part 2!
DESCRIPTION:We cleaned up Carver Mill Road on the west side of Pickens County a few weeks ago\, and we had so much fun!  Join us for our next clean up on the eastside on when we work on….. well\, we’re still deciding which is the dirtiest but safest road\, so check back for updates! \n\n\n\nApril is the Great American Cleanup.  Come lend a hand\, meet new friends\, and have the joy of knowing that you’ve made a positive difference in our community!
URL:https://keeppickensbeautiful.org/calendar/lets-clean-up-pickens-part-2/
LOCATION:Georgia
ATTACH;FMTTYPE=image/jpeg:https://keeppickensbeautiful.org/wp-content/uploads/2021/10/road_chumley_cropped_02.jpg
END:VEVENT
BEGIN:VEVENT
DTSTART;TZID=America/New_York:20220423T120000
DTEND;TZID=America/New_York:20220423T150000
DTSTAMP:20260425T104426
CREATED:20220315T005240Z
LAST-MODIFIED:20220321T183244Z
UID:2491-1650715200-1650726000@keeppickensbeautiful.org
SUMMARY:Earth Day on Main - Community Appreciation Day!
DESCRIPTION:Thank you Pickens County! \n\n\n\nKeep Pickens Beautiful has been working with the Pickens County community since 1989\, and we are so thankful to all our volunteers\, members\, partners\, and supporters.  Join us as we celebrate so many things!  The Great American Cleanup\, Earth Day\, the growth of KPB over the past couple of years\, and much more! \n\n\n\nJoin us for:Live music and snacksFree plants! – organic\, nonGMO tomatoes\, peppers\, eggplant\, and moreRafflesEdible Jasper walking adventureand of course updates about all that KPB has been up to \n\n\n\nWe look forward to meeting you!  And if you’re already a friend of KPB\, we can’t wait to visit with you!
URL:https://keeppickensbeautiful.org/calendar/thank-you-pickens-county/
LOCATION:Georgia
ATTACH;FMTTYPE=image/jpeg:https://keeppickensbeautiful.org/wp-content/uploads/2021/05/office_07.jpg
END:VEVENT
BEGIN:VEVENT
DTSTART;TZID=America/New_York:20220420T110000
DTEND;TZID=America/New_York:20220420T150000
DTSTAMP:20260425T104426
CREATED:20220315T002621Z
LAST-MODIFIED:20220416T111716Z
UID:2487-1650452400-1650466800@keeppickensbeautiful.org
SUMMARY:Edible Jasper Spring is Springing!
DESCRIPTION:The KPB Edible Jasper Team has been growing plants all Winter…. its time to get them in the ground!  Join us as we add more than 300 plants to the Edible Jasper gardens!  We will focus on the cold-tolerant plants we’ve been growing\, including several kale varieties\, swiss chard\, bok choy\, pak choy\, and much more! \n\n\n\nCome play in the dirt\, meet new friends\, and have fun while foodscaping Main Street! \n\n\n\nJoin us for all our part of the day.  We’ll begin behind the Kirby-Quinton Cabin.  Once that space is filled\, we’ll work our way down Main Street until we run out of plants.  See you in the garden!!
URL:https://keeppickensbeautiful.org/calendar/edible-jasper-spring-is-springingedible-jasper-spring-is-springing/
LOCATION:Georgia
ATTACH;FMTTYPE=image/jpeg:https://keeppickensbeautiful.org/wp-content/uploads/2022/03/edible_quinton_23.jpg
END:VEVENT
BEGIN:VEVENT
DTSTART;TZID=America/New_York:20220409T100000
DTEND;TZID=America/New_York:20220409T120000
DTSTAMP:20260425T104426
CREATED:20220315T001523Z
LAST-MODIFIED:20220407T035717Z
UID:2485-1649498400-1649505600@keeppickensbeautiful.org
SUMMARY:Let's Clean Up Pickens! part 1
DESCRIPTION:Join the Great American Cleanup this April! Help Pickens County contribute to the billions of pieces of trash being removed from neighborhoods\, rivers\, trails\, and parks during Earth Day month. \n\n\n\nKeep Pickens Beautiful will spearhead two local cleanups for streets identified as “most littered” by the county. Join one of those clean-up teams or organize your own neighborhood clean-up with your neighbors. KPB will provide supplies to help you in this effort. \n\n\n\nTogether we can make a stand in April to restore our neighborhoods and make Pickens know as the cleanest\, greenest\, brightest county in North Georgia. \n\n\n\nHow can you participate?  Join us on the westside on April 9 as we clean up Carver Mill Road! \n\n\n\nMeet us at Hinton Milling at 10:00.Pull to the end of their parking lot – do not block their gate please!KPB will have safety vests\, pick-up sticks\, and gloves.  If you have any of these items\, please bring them since our supplies are limited. \n\n\n\nKPB will also sponsor a cleanup on the eastside on April 30\, so come join our clean-up team or let us know what neighborhood you would like to sponsor.
URL:https://keeppickensbeautiful.org/calendar/lets-clean-up-pickens-carver-mill/
LOCATION:Georgia
ATTACH;FMTTYPE=image/jpeg:https://keeppickensbeautiful.org/wp-content/uploads/2021/10/clean_sweep_apr2016_02-scaled.jpg
END:VEVENT
BEGIN:VEVENT
DTSTART;TZID=America/New_York:20220402T090000
DTEND;TZID=America/New_York:20220402T120000
DTSTAMP:20260425T104426
CREATED:20220314T233705Z
LAST-MODIFIED:20220315T074137Z
UID:2481-1648890000-1648900800@keeppickensbeautiful.org
SUMMARY:Edible Jasper Spring Begins 2022!
DESCRIPTION:Spring is in the air!  It’s time to get the Edible Jasper gardens started! \n\n\n\nApril is the Great American Cleanup\, so we’re going to start the month’s activities with cleaning up the gardens to prep them for new plants.  If the weather cooperates\, we may start planting some of our cold tolerant starts.  We have kale varieties\, swiss chard\, boy choy\, pac choy\, and more that are ready to go in the ground asap!  And we have a Serviceberry tree that we’ll plant in front of the Kirby-Quinton cabin. \n\n\n\nWatch for updates as we modify the event plans based on the weather. \n\n\n\nJoin us for part or all of the day’s events.  We’ll start in the gardens behind the Kirby-Quinton cabin and in the Pickens Progress parking lot\, and will work our way down Main Street. \n\n\n\nCome play in the dirt with us!  Meet new friends!  And have fun while beautifying Main Street!
URL:https://keeppickensbeautiful.org/calendar/edible-jasper-spring-begins-2022/
LOCATION:Georgia
ATTACH;FMTTYPE=image/jpeg:https://keeppickensbeautiful.org/wp-content/uploads/2021/10/kpb_edible_jasper_progress_15.jpg
END:VEVENT
BEGIN:VEVENT
DTSTART;TZID=America/New_York:20220401T080000
DTEND;TZID=America/New_York:20220430T170000
DTSTAMP:20260425T104426
CREATED:20220315T003524Z
LAST-MODIFIED:20220315T074213Z
UID:2489-1648800000-1651338000@keeppickensbeautiful.org
SUMMARY:Great American Cleanup
DESCRIPTION:April is the Great American Cleanup in Pickens County.  Join us as we clean up and beautify our community! \n\n\n\nThe Great American Cleanup is the country’s largest community improvement program that kicks off in more than 20\,000 communities each spring. This national program engages 4+ million volunteers who take action in their communities to create positive change and lasting impact. \n\n\n\nWatch this calendar and our Facebook page for more events and activities throughout the month. \n\n\n\nLearn more about the Great American Cleanup HERE.
URL:https://keeppickensbeautiful.org/calendar/great-american-cleanup/
LOCATION:Georgia
ATTACH;FMTTYPE=image/jpeg:https://keeppickensbeautiful.org/wp-content/uploads/2021/05/Rainbows-over-Sharptop-Mountain-071512a.jpg
END:VEVENT
BEGIN:VEVENT
DTSTART;TZID=America/New_York:20211212T120000
DTEND;TZID=America/New_York:20211212T180000
DTSTAMP:20260425T104426
CREATED:20211206T110925Z
LAST-MODIFIED:20211206T110935Z
UID:2189-1639310400-1639332000@keeppickensbeautiful.org
SUMMARY:Edible Jasper Fall Planting and Cleanup
DESCRIPTION:Join us for our final Fall Edible Jasper workshop! \n\n\n\nCome for the full time\, or for part!  We’ll take all the helping hands we can get! \n\n\n\nWe have been growing lots and lots of baby plant starts over the past couple of months\, and some of them are ready to go in the ground!  We know that it’s late in the season so we’re hoping for the best\, so now is the time!! \n\n\n\nJoin us on Main Street as we plant creeping thyme\, cabbage\, bok choy\, swiss chard\, and more! \n\n\n\nWe will start in the garden at the Kirby Quinton cabin\, and plan to add plants to the garden spaces along Main Street. \n\n\n\nIn addition to planting\, we have some cleanup in the garden spaces in the Pickens Progress parking lot.   \n\n\n\nThere’s a lot to do!  We need YOU! \n\n\n\nCome lend a hand\, meet new friends\, and have fun with the Edible Jasper Team!
URL:https://keeppickensbeautiful.org/calendar/edible-jasper-fall-planting-and-cleanup/
LOCATION:Georgia
ATTACH;FMTTYPE=image/jpeg:https://keeppickensbeautiful.org/wp-content/uploads/2021/11/edible_button_quinton.jpg
END:VEVENT
BEGIN:VEVENT
DTSTART;TZID=America/New_York:20211109T183000
DTEND;TZID=America/New_York:20211109T193000
DTSTAMP:20260425T104426
CREATED:20211109T233000Z
LAST-MODIFIED:20211031T045121Z
UID:1798-1636482600-1636486200@keeppickensbeautiful.org
SUMMARY:KPB Monthly Board Meeting
DESCRIPTION:The Keep Pickens Beautiful Board of Directors meets monthly\, on the second Tuesday of each month at 6:30. \nCurrently\, we meet at the Pickens Recycling Center on Appalachian Court.  However\, this will shift in the winter months. \nThe community is invited to join us!  If you’d like to attend\, please complete our Contact form and let us know why you’re interested in KPB. \n(note: image is not of our Board\, but of Pickens County’s hard-working recycling team and their Green Ribbon Award) \n  \nI am interested in joining the KPB Team!\n\n\n\n\nContact KPB\n\n\n\n\n\n\n\n\n    Name\n        *\n    \n    \n    First\n    \n\n\n    Last\n        *\n    \n    \n    Last\n    \n\n\n    Email\n        *\n    \n    \n    \n    \n\n\n    Subject\n        *\n    \n    \n    \n    \n\n\n    Message\n        *\n    \n    \n    \n    \n\n\n    I want to help!\n        \n    \n    					\n			 Volunteer to help with projects and programs\n					\n			 Join the Board of Directors\n					\n			 Other ways I want to help"Other ways I want to help"\n\n    \n    \n\n\n    reCAPTCHA\n        \n    \n    \n    \n    \n\n\n	\n\nSubmit
URL:https://keeppickensbeautiful.org/calendar/kpb-monthly-board-meeting/
LOCATION:Pickens Recycling Center\, 390 Appalachian Ct\, Jasper\, GA\, 30143\, United States
CATEGORIES:Board Meeting
ATTACH;FMTTYPE=image/jpeg:https://keeppickensbeautiful.org/wp-content/uploads/2021/06/green_ribbon_june2021_recycling_center.jpg
ORGANIZER;CN="Keep Pickens Beautiful":MAILTO:keeppickensbeautiful@gmail.com
END:VEVENT
BEGIN:VEVENT
DTSTART;TZID=America/New_York:20211106T153000
DTEND;TZID=America/New_York:20211106T183000
DTSTAMP:20260425T104426
CREATED:20211106T193000Z
LAST-MODIFIED:20211104T083345Z
UID:1781-1636212600-1636223400@keeppickensbeautiful.org
SUMMARY:Edible Jasper - Quinton Cabin garden prep
DESCRIPTION:Join us as we start the new herb garden behind the historic Kirby Quinton Cabin! \nThis project is kid-friendly since the garden spaces are away from traffic. \nCome for all or part of our workshop!  Your helping hands are appreciated for whatever amount of time you’re available. \nEdible Jasper is adding another garden!  This herb garden will be located behind the cabin\, and we will focus on including herbs and other plants for use by the local restaurants.  We have surveyed them to find which herbs they use in their kitchens\, and since this location is away from traffic and storm run-off\, it’s the perfect location! \nCome learn how to prep a grassy\, impacted space!  The location for the garden has been home to grasses and other ‘weeds’ for decades\, and the soil is extremely impacted.  On this date\, we will begin prepping the space for the herb garden.  And depending on how quickly we progress\, we’ll hopefully even get some plants in the ground! \nWhat does ‘prepping’ mean?  All the grass needs to be removed since we want to get this garden started now; digging will be needed by those who can.  Then we will amend the soil to improve it so we’ll have happy herbs and other plants.  So come get your hands dirty.  Get some exercise.  Meet new friends.  And have fun as we help Edible Jasper grow! \nDue to Covid safety protocols\, places are limited and we will be keeping space between our volunteers.  If we get a large team\, we may split into two groups because there is a bit more work to be done on the gardens in the Pickens Progress parking lot. \nLearn more about the historic Quinton cabin HERE from the Marble Valley Historical Society. \nNote: Complete one registration form per household.  If you are bringing friends\, please contact KPB to let us know how many people you are bringing.
URL:https://keeppickensbeautiful.org/calendar/edible-jasper-quinton-cabin-garden-prep/
LOCATION:Edible Jasper – Kirby Quinton Cabin herb garden\, Jasper\, GA\, 30143\, United States
CATEGORIES:Edible Jasper
ATTACH;FMTTYPE=image/jpeg:https://keeppickensbeautiful.org/wp-content/uploads/2021/11/quinton_cabin_01.jpg
ORGANIZER;CN="Keep Pickens Beautiful":MAILTO:keeppickensbeautiful@gmail.com
END:VEVENT
END:VCALENDAR