BEGIN:VCALENDAR
VERSION:2.0
PRODID:-//Keep Pickens Beautiful - ECPv6.15.20//NONSGML v1.0//EN
CALSCALE:GREGORIAN
METHOD:PUBLISH
X-ORIGINAL-URL:https://keeppickensbeautiful.org
X-WR-CALDESC:Events for Keep Pickens Beautiful
REFRESH-INTERVAL;VALUE=DURATION:PT1H
X-Robots-Tag:noindex
X-PUBLISHED-TTL:PT1H
BEGIN:VTIMEZONE
TZID:America/New_York
BEGIN:DAYLIGHT
TZOFFSETFROM:-0500
TZOFFSETTO:-0400
TZNAME:EDT
DTSTART:20220313T070000
END:DAYLIGHT
BEGIN:STANDARD
TZOFFSETFROM:-0400
TZOFFSETTO:-0500
TZNAME:EST
DTSTART:20221106T060000
END:STANDARD
BEGIN:DAYLIGHT
TZOFFSETFROM:-0500
TZOFFSETTO:-0400
TZNAME:EDT
DTSTART:20230312T070000
END:DAYLIGHT
BEGIN:STANDARD
TZOFFSETFROM:-0400
TZOFFSETTO:-0500
TZNAME:EST
DTSTART:20231105T060000
END:STANDARD
BEGIN:DAYLIGHT
TZOFFSETFROM:-0500
TZOFFSETTO:-0400
TZNAME:EDT
DTSTART:20240310T070000
END:DAYLIGHT
BEGIN:STANDARD
TZOFFSETFROM:-0400
TZOFFSETTO:-0500
TZNAME:EST
DTSTART:20241103T060000
END:STANDARD
END:VTIMEZONE
BEGIN:VEVENT
DTSTART;TZID=America/New_York:20230603T100000
DTEND;TZID=America/New_York:20230603T140000
DTSTAMP:20260425T153300
CREATED:20230530T210200Z
LAST-MODIFIED:20230530T210205Z
UID:3861-1685786400-1685800800@keeppickensbeautiful.org
SUMMARY:Edible Jasper at the Community Thrift Store!
DESCRIPTION:Edible Jasper Grows Again!Join us as we install a new Edible Jasper garden around the Community Thrift Store’s new sign.We will show you how lasagne-style garden-building works.  The soil around the sign is terrible – it’s impacted\, mostly clay\, and full of well-established grass.  We’ll build a thick barrier from recycled cardboard\, and then will add layers of leaf litter\, soil with compost\, and mulch.Plants to be added include rosemary\, lavender\, various thymes\, bee balm\, kale\, and more!Come help beautify our community with another sustainable\, edible garden\, meet new friends\, learn new things\, and get your hands dirty!  It’s good for you and for everyone else too! 🙂
URL:https://keeppickensbeautiful.org/calendar/edible-jasper-at-the-community-thrift-store/
LOCATION:Pickens Community Thrift Store\, 110 Samaritan Drive\, Jasper\, Georgia\, 30143\, United States
CATEGORIES:Edible Jasper
ATTACH;FMTTYPE=image/jpeg:https://keeppickensbeautiful.org/wp-content/uploads/2023/05/thrift_store_sign-scaled.jpg
END:VEVENT
BEGIN:VEVENT
DTSTART;TZID=America/New_York:20230610T100000
DTEND;TZID=America/New_York:20230610T140000
DTSTAMP:20260425T153300
CREATED:20230605T165313Z
LAST-MODIFIED:20230605T165330Z
UID:3866-1686391200-1686405600@keeppickensbeautiful.org
SUMMARY:Plant Talk - Trash Walk
DESCRIPTION:Join us on June 10 from 10:00-2:00ish as we learn about the useful\, beneficial\, and native plants growing on our roadsides while we help clean up our community. \n\n\n\nOur friend and local herbalist\, Crystal Rhys\, will lead our plant walk from our office (the little green cabin at 56 South Main Street – across from 61 Main) to the sheriff’s office. Spring Street -> AW Lawson \n\n\n\nAlong the way\, we’ll clean up the roadside trash to help beautify our community. \n\n\n\nWe are sure you’ll be amazed at all the amazing plants we’ll learn about that you probably didn’t realize are growing on the roads we travel daily! \n\n\n\nCome learn new things\, meet new friends\, get some exercise\, and do good things!
URL:https://keeppickensbeautiful.org/calendar/plant-talk-trash-walk/
LOCATION:Keep Pickens Beautiful Office\, 56 South Main Street\, Jasper\, Georgia\, 30143\, United States
CATEGORIES:Cleanup
ATTACH;FMTTYPE=image/jpeg:https://keeppickensbeautiful.org/wp-content/uploads/2023/06/060523_plant_talk_trash_walk_source-scaled.jpg
END:VEVENT
END:VCALENDAR