BEGIN:VCALENDAR
VERSION:2.0
PRODID:-//Keep Pickens Beautiful - ECPv6.15.20//NONSGML v1.0//EN
CALSCALE:GREGORIAN
METHOD:PUBLISH
X-ORIGINAL-URL:https://keeppickensbeautiful.org
X-WR-CALDESC:Events for Keep Pickens Beautiful
REFRESH-INTERVAL;VALUE=DURATION:PT1H
X-Robots-Tag:noindex
X-PUBLISHED-TTL:PT1H
BEGIN:VTIMEZONE
TZID:America/New_York
BEGIN:DAYLIGHT
TZOFFSETFROM:-0500
TZOFFSETTO:-0400
TZNAME:EDT
DTSTART:20230312T070000
END:DAYLIGHT
BEGIN:STANDARD
TZOFFSETFROM:-0400
TZOFFSETTO:-0500
TZNAME:EST
DTSTART:20231105T060000
END:STANDARD
BEGIN:DAYLIGHT
TZOFFSETFROM:-0500
TZOFFSETTO:-0400
TZNAME:EDT
DTSTART:20240310T070000
END:DAYLIGHT
BEGIN:STANDARD
TZOFFSETFROM:-0400
TZOFFSETTO:-0500
TZNAME:EST
DTSTART:20241103T060000
END:STANDARD
BEGIN:DAYLIGHT
TZOFFSETFROM:-0500
TZOFFSETTO:-0400
TZNAME:EDT
DTSTART:20250309T070000
END:DAYLIGHT
BEGIN:STANDARD
TZOFFSETFROM:-0400
TZOFFSETTO:-0500
TZNAME:EST
DTSTART:20251102T060000
END:STANDARD
END:VTIMEZONE
BEGIN:VEVENT
DTSTART;TZID=America/New_York:20241105T120000
DTEND;TZID=America/New_York:20241105T140000
DTSTAMP:20260424T180218
CREATED:20241022T175422Z
LAST-MODIFIED:20241022T182637Z
UID:5887-1730808000-1730815200@keeppickensbeautiful.org
SUMMARY:Edible Pickens: Library Garden Fall Planting
DESCRIPTION:If you think planting a garden is only for the springtime\, think again! There are plenty of herbs and vegetables the love the cool weather of the fall and winter\, especially in the mild climate we have here in Georgia. Join us as we plant some cool weather plants in our “Pizza Garden” at the Pickens County Library! Bring your kids\, as this garden was created for them to have a space to learn about gardening\, and what better place than at the library.  \n\n\n\n\n\n\n\nThis garden was developed in April this year\, so it is still a work in progress. It takes time for the soil to regulate and become a thriving environment for food to grow and flourish. It is situated safely in the parking lot of the Library\, a perfect space for your littles to play in the garden. We hope to see you there!  \n\n\n\n\n\n\n\nRegistration is not required but encouraged.No experience necessary!All plants\, tools and supplies are supplied by Keep Pickens Beautiful.
URL:https://keeppickensbeautiful.org/calendar/edible-pickens-library-garden-fall-planting/
LOCATION:Pickens County Library\, 100 Library Lane\, Jasper\, Georgia\, 30143\, United States
ATTACH;FMTTYPE=image/jpeg:https://keeppickensbeautiful.org/wp-content/uploads/2024/08/plant_guide_web_lemon_thyme.jpg
END:VEVENT
END:VCALENDAR