BEGIN:VCALENDAR
VERSION:2.0
PRODID:-//Keep Pickens Beautiful - ECPv6.15.20//NONSGML v1.0//EN
CALSCALE:GREGORIAN
METHOD:PUBLISH
X-ORIGINAL-URL:https://keeppickensbeautiful.org
X-WR-CALDESC:Events for Keep Pickens Beautiful
REFRESH-INTERVAL;VALUE=DURATION:PT1H
X-Robots-Tag:noindex
X-PUBLISHED-TTL:PT1H
BEGIN:VTIMEZONE
TZID:America/New_York
BEGIN:DAYLIGHT
TZOFFSETFROM:-0500
TZOFFSETTO:-0400
TZNAME:EDT
DTSTART:20250309T070000
END:DAYLIGHT
BEGIN:STANDARD
TZOFFSETFROM:-0400
TZOFFSETTO:-0500
TZNAME:EST
DTSTART:20251102T060000
END:STANDARD
BEGIN:DAYLIGHT
TZOFFSETFROM:-0500
TZOFFSETTO:-0400
TZNAME:EDT
DTSTART:20260308T070000
END:DAYLIGHT
BEGIN:STANDARD
TZOFFSETFROM:-0400
TZOFFSETTO:-0500
TZNAME:EST
DTSTART:20261101T060000
END:STANDARD
BEGIN:DAYLIGHT
TZOFFSETFROM:-0500
TZOFFSETTO:-0400
TZNAME:EDT
DTSTART:20270314T070000
END:DAYLIGHT
BEGIN:STANDARD
TZOFFSETFROM:-0400
TZOFFSETTO:-0500
TZNAME:EST
DTSTART:20271107T060000
END:STANDARD
END:VTIMEZONE
BEGIN:VEVENT
DTSTART;TZID=America/New_York:20260307T080000
DTEND;TZID=America/New_York:20260418T200000
DTSTAMP:20260423T183218
CREATED:20260306T230539Z
LAST-MODIFIED:20260307T005417Z
UID:8839-1772870400-1776542400@keeppickensbeautiful.org
SUMMARY:Litter-O-Lympics 2026
DESCRIPTION:This year\, Litter-O-Lympics will happen at your own pace during the Greatest American Cleanup & America’s 250th Anniversary Celebration. It kicks off at our first group litter cleanup event on March 7th and runs all the way until April 18th\, when we will celebrate Earth Day on Main! \n\n\n\nLearn more on the official Litter-O-Lympics webpage
URL:https://keeppickensbeautiful.org/calendar/litter-o-lympics-2026/
LOCATION:Georgia
ATTACH;FMTTYPE=image/jpeg:https://keeppickensbeautiful.org/wp-content/uploads/2026/03/LOL-2026-square-1-scaled.jpg
END:VEVENT
BEGIN:VEVENT
DTSTART;TZID=America/New_York:20260307T100000
DTEND;TZID=America/New_York:20260307T120000
DTSTAMP:20260423T183218
CREATED:20260116T172108Z
LAST-MODIFIED:20260307T005733Z
UID:8721-1772877600-1772884800@keeppickensbeautiful.org
SUMMARY:GAC Litter Cleanup
DESCRIPTION:CLEANUP ROUTE\n\n\n\nNorth Main Street from Revolution Church towards Old Philadelphia Road \n\n\n\nPlease join us for this year’s Great American Cleanup! For America’s 250th Birthday\, we will be hosting a litter cleanup event every Saturday in March\, focusing on a different area of Pickens County each weekend. If you’ve been curious to volunteer with us\, this is a great intro activity! Get some exercise\, make some friends\, and leave the place more beautiful than you found it. We promise\, you will feel great afterward! \n\n\n\nThis event kicks off the start of the Litter-O-Lympics! Earn extra points towards the competition for attending this\, and all group litter cleanups! \n\n\n\nParking instructions: Park at Revolution Church – 689 North Main Street \n\n\n\nClean-up kit will be provided.All ages welcome.No experience needed.Weather permitting. \n\n\n\nRegister now!
URL:https://keeppickensbeautiful.org/calendar/gac-litter-cleanup/
LOCATION:Georgia
ATTACH;FMTTYPE=image/jpeg:https://keeppickensbeautiful.org/wp-content/uploads/2026/01/GAC-2026-cleanup-square.jpg
END:VEVENT
BEGIN:VEVENT
DTSTART;TZID=America/New_York:20260314T110000
DTEND;TZID=America/New_York:20260314T160000
DTSTAMP:20260423T183218
CREATED:20260119T234800Z
LAST-MODIFIED:20260304T180751Z
UID:8746-1773486000-1773504000@keeppickensbeautiful.org
SUMMARY:Recycle Your Old TV
DESCRIPTION:We will be collecting those old CRT TVs that are collecting dust in your basement\, CRT TVs – FREE OF CHARGE! \n\n\n\nWhere are your TVs going? For the past few years\, KPB has worked with NOVUS solutions. They have a facility in Marietta that properly and safely recycles those old CRT monitors. We’ll collect them and package them for NOVUS to pick up and safely transport to their facility.
URL:https://keeppickensbeautiful.org/calendar/recycle-your-old-tv/
LOCATION:pickens county recycle center\, 390 Appalachian Court\, Jasper\, Georgia\, 30143\, United States
ATTACH;FMTTYPE=image/jpeg:https://keeppickensbeautiful.org/wp-content/uploads/2026/01/Recycle-Your-TV.jpg
END:VEVENT
BEGIN:VEVENT
DTSTART;TZID=America/New_York:20260314T110000
DTEND;TZID=America/New_York:20260314T160000
DTSTAMP:20260423T183218
CREATED:20260226T180603Z
LAST-MODIFIED:20260307T011034Z
UID:8807-1773486000-1773504000@keeppickensbeautiful.org
SUMMARY:Hard-To-Recycle Items Event
DESCRIPTION:Do you wish you could recycle Styrofoam? How about florescent tube lights??? On March 14th\, KPB is hosting a “Hard-to-Recycle” items event at the Pickens County Recycle Center (on Appalachian Court) from 11am-4pm where we will collect these hard to recycle items and recycle them for you. \n\n\n\nWhere are your ‘hard to recycle’ materials going? CHARM is a recycling facility in Atlanta that accepts a wide range of materials\, so we will take your items there for you since it’s a bit of a drive from here\, to save you the drive. 😁🚚♻️ \n\n\n\nItems that will be accepted*:\n\n\n\nStyrofoamFlorescent tube lights**Corrugated plastic signsShrink wrap(FREE OF CHARGE) \n\n\n\nThis event will kickoff the Great American Cleanup months of March and April! Check out our Calendar for scheduled events\, and keep an eye on our socials for upcoming events to help us celebrate the 2025 Great American Cleanup. \n\n\n\n*We will have one truck on site for the materials. We will only accept what will fit; once the truck is full\, no more materials will be accepted. Get there early! **tube lights – up to 5 free; additional $0.50 each
URL:https://keeppickensbeautiful.org/calendar/hard-to-recycle-items-event/
LOCATION:Georgia
ATTACH;FMTTYPE=image/jpeg:https://keeppickensbeautiful.org/wp-content/uploads/2026/02/Hard-To-Recycle-Event-square.jpg
END:VEVENT
BEGIN:VEVENT
DTSTART;TZID=America/New_York:20260321T100000
DTEND;TZID=America/New_York:20260321T120000
DTSTAMP:20260423T183218
CREATED:20260116T172532Z
LAST-MODIFIED:20260319T151647Z
UID:8725-1774087200-1774094400@keeppickensbeautiful.org
SUMMARY:GAC Litter Cleanup
DESCRIPTION:CLEANUP ROUTE\n\n\n\nYellow Creek Road \n\n\n\nPlease join us for this year’s Great American Cleanup! For America’s 250th Birthday\, we will be hosting a litter cleanup event every Saturday in March\, focusing on a different area of Pickens County each weekend. If you’ve been curious to volunteer with us\, this is a great intro activity! Get some exercise\, make some friends\, and leave the place more beautiful than you found it. We promise\, you will feel great afterward! \n\n\n\nEarn extra points towards the Litter-O-Lympics competition for attending this\, and all group litter cleanups! \n\n\n\nClean-up kit will be provided.Meet at Yellow Creek Church at 10:00 – 1276 Yellow Creek Road.All ages welcome.No experience needed.Weather permitting. \n\n\n\nRegister now!
URL:https://keeppickensbeautiful.org/calendar/gac-litter-cleanup-2/
LOCATION:Yellow Creek Church\, 1276 Yellow Creek Road\, Jasper\, Georgia\, 30143
ATTACH;FMTTYPE=image/jpeg:https://keeppickensbeautiful.org/wp-content/uploads/2026/01/GAC-2026-cleanup-square.jpg
END:VEVENT
BEGIN:VEVENT
DTSTART;TZID=America/New_York:20260328T100000
DTEND;TZID=America/New_York:20260328T120000
DTSTAMP:20260423T183218
CREATED:20260116T172944Z
LAST-MODIFIED:20260324T064506Z
UID:8727-1774692000-1774699200@keeppickensbeautiful.org
SUMMARY:GAC Litter Cleanup
DESCRIPTION:CLEANUP ROUTE\n\n\n\nJerusalem Church Road \n\n\n\nPlease join us for this year’s Great American Cleanup! For America’s 250th Birthday\, we will be hosting a litter cleanup event every Saturday in March\, focusing on a different area of Pickens County each weekend. If you’ve been curious to volunteer with us\, this is a great intro activity! Get some exercise\, make some friends\, and leave the place more beautiful than you found it. We promise\, you will feel great afterward! \n\n\n\nEarn extra points towards the Litter-O-Lympics competition for attending this\, and all group litter cleanups! \n\n\n\nClean-up kit will be provided.Parking instructions will be announced before event.All ages welcome.No experience needed.Weather permitting. \n\n\n\nRegister now!
URL:https://keeppickensbeautiful.org/calendar/gac-litter-cleanup-3/
LOCATION:Georgia
ATTACH;FMTTYPE=image/jpeg:https://keeppickensbeautiful.org/wp-content/uploads/2026/01/GAC-2026-cleanup-square.jpg
END:VEVENT
END:VCALENDAR